BEGIN:VCALENDAR
VERSION:2.0
PRODID:-//Inheritance of Hope - ECPv6.15.20//NONSGML v1.0//EN
CALSCALE:GREGORIAN
METHOD:PUBLISH
X-ORIGINAL-URL:https://inheritanceofhope.org
X-WR-CALDESC:Events for Inheritance of Hope
REFRESH-INTERVAL;VALUE=DURATION:PT1H
X-Robots-Tag:noindex
X-PUBLISHED-TTL:PT1H
BEGIN:VTIMEZONE
TZID:America/New_York
BEGIN:DAYLIGHT
TZOFFSETFROM:-0500
TZOFFSETTO:-0400
TZNAME:EDT
DTSTART:20250309T070000
END:DAYLIGHT
BEGIN:STANDARD
TZOFFSETFROM:-0400
TZOFFSETTO:-0500
TZNAME:EST
DTSTART:20251102T060000
END:STANDARD
BEGIN:DAYLIGHT
TZOFFSETFROM:-0500
TZOFFSETTO:-0400
TZNAME:EDT
DTSTART:20260308T070000
END:DAYLIGHT
BEGIN:STANDARD
TZOFFSETFROM:-0400
TZOFFSETTO:-0500
TZNAME:EST
DTSTART:20261101T060000
END:STANDARD
BEGIN:DAYLIGHT
TZOFFSETFROM:-0500
TZOFFSETTO:-0400
TZNAME:EDT
DTSTART:20270314T070000
END:DAYLIGHT
BEGIN:STANDARD
TZOFFSETFROM:-0400
TZOFFSETTO:-0500
TZNAME:EST
DTSTART:20271107T060000
END:STANDARD
END:VTIMEZONE
BEGIN:VEVENT
DTSTART;TZID=America/New_York:20260801T000000
DTEND;TZID=America/New_York:20260831T235900
DTSTAMP:20260425T153253
CREATED:20251009T105009Z
LAST-MODIFIED:20251027T151244Z
UID:43914-1785542400-1788220740@inheritanceofhope.org
SUMMARY:Make-A-Will Month
DESCRIPTION:August is Make-A-Will Month.\n\n\n\nEveryone should have a Will. Show care for your loved ones\, be intentional about the future\, and invest in what matters to you. Create your FREE Will today: InheritanceOfHope.org/Wills
URL:https://inheritanceofhope.org/event/make-a-will-month/
ATTACH;FMTTYPE=image/jpeg:https://inheritanceofhope.org/wp-content/uploads/2025/10/VGP_2318-3-scaled.jpg
END:VEVENT
END:VCALENDAR