BEGIN:VCALENDAR
VERSION:2.0
PRODID:-//Inheritance of Hope - ECPv6.15.20//NONSGML v1.0//EN
CALSCALE:GREGORIAN
METHOD:PUBLISH
X-ORIGINAL-URL:https://inheritanceofhope.org
X-WR-CALDESC:Events for Inheritance of Hope
REFRESH-INTERVAL;VALUE=DURATION:PT1H
X-Robots-Tag:noindex
X-PUBLISHED-TTL:PT1H
BEGIN:VTIMEZONE
TZID:UTC
BEGIN:STANDARD
TZOFFSETFROM:+0000
TZOFFSETTO:+0000
TZNAME:UTC
DTSTART:20240101T000000
END:STANDARD
END:VTIMEZONE
BEGIN:VEVENT
DTSTART;TZID=UTC:20251024T180000
DTEND;TZID=UTC:20251026T200000
DTSTAMP:20260421T121935
CREATED:20251009T065548Z
LAST-MODIFIED:20251024T192526Z
UID:43856-1761328800-1761508800@inheritanceofhope.org
SUMMARY:Legacy Retreat®
DESCRIPTION:A destination experience for your family to make memories\, build a lasting legacy together\, and receive tools to navigate a parent’s terminal illness.
URL:https://inheritanceofhope.org/event/legacy-retreat/
LOCATION:Minneapolis Legacy Retreat®\, Minneapolis\, MN\, Minneapolis\, MN\, 55401\, United States
ATTACH;FMTTYPE=image/jpeg:https://inheritanceofhope.org/wp-content/uploads/2025/10/IMG_2563-2-scaled.jpg
END:VEVENT
END:VCALENDAR